BEGIN:VCALENDAR
VERSION:2.0
PRODID:Passagem de ano em Vila Nova 
X-WR-CALNAME:Passagem de ano em Vila Nova 
X-WR-TIMEZONE:Europe/Lisbon
X-PUBLISHED-TTL:P1W
BEGIN:VTIMEZONE
TZID:Europe/Lisbon
X-LIC-LOCATION:Europe/Lisbon
END:VTIMEZONE
BEGIN:VEVENT
UID:69e91ee3c5639
DTSTART;VALUE=DATE:20251231
SEQUENCE:0
TRANSP:OPAQUE
DTEND;VALUE=DATE:20260101
SUMMARY:Passagem de ano em Vila Nova 
CLASS:PUBLIC
DESCRIPTION:Passagem de ano em Vila Nova&nbsp\;
X-MICROSOFT-CDO-ALLDAYEVENT:TRUE
DTSTAMP:20260422T191755Z
END:VEVENT
END:VCALENDAR