BEGIN:VCALENDAR
VERSION:2.0
PRODID:Animóvel - Itinerários com vida em Chão Miúdo
X-WR-CALNAME:Animóvel - Itinerários com vida em Chão Miúdo
X-WR-TIMEZONE:Europe/Lisbon
X-PUBLISHED-TTL:P1W
BEGIN:VTIMEZONE
TZID:Europe/Lisbon
X-LIC-LOCATION:Europe/Lisbon
END:VTIMEZONE
BEGIN:VEVENT
UID:69e91e5d99074
DTSTART;VALUE=DATE:20260127
SEQUENCE:0
TRANSP:OPAQUE
DTEND;VALUE=DATE:20260128
SUMMARY:Animóvel - Itinerários com vida em Chão Miúdo
CLASS:PUBLIC
DESCRIPTION:Animóvel - Itinerários com vida em Chão Miúdo
X-MICROSOFT-CDO-ALLDAYEVENT:TRUE
DTSTAMP:20260422T191541Z
END:VEVENT
END:VCALENDAR