BEGIN:VCALENDAR
VERSION:2.0
PRODID:44º Aniversário da Associação de Vila Nova 
X-WR-CALNAME:44º Aniversário da Associação de Vila Nova 
X-WR-TIMEZONE:Europe/Lisbon
X-PUBLISHED-TTL:P1W
BEGIN:VTIMEZONE
TZID:Europe/Lisbon
X-LIC-LOCATION:Europe/Lisbon
END:VTIMEZONE
BEGIN:VEVENT
UID:69e91ecbb4c4b
DTSTART;VALUE=DATE:20260426
SEQUENCE:0
TRANSP:OPAQUE
DTEND;VALUE=DATE:20260427
SUMMARY:44º Aniversário da Associação de Vila Nova 
CLASS:PUBLIC
DESCRIPTION:44º Aniversário da Associação de Vila Nova&nbsp\;
X-MICROSOFT-CDO-ALLDAYEVENT:TRUE
DTSTAMP:20260422T191731Z
END:VEVENT
END:VCALENDAR