BEGIN:VCALENDAR
VERSION:2.0
PRODID:Festa de São Marcos em Mortazel
X-WR-CALNAME:Festa de São Marcos em Mortazel
X-WR-TIMEZONE:Europe/Lisbon
X-PUBLISHED-TTL:P1W
BEGIN:VTIMEZONE
TZID:Europe/Lisbon
X-LIC-LOCATION:Europe/Lisbon
END:VTIMEZONE
BEGIN:VEVENT
UID:69e91eca74b47
DTSTART;VALUE=DATE:20260426
SEQUENCE:0
TRANSP:OPAQUE
DTEND;VALUE=DATE:20260427
SUMMARY:Festa de São Marcos em Mortazel
CLASS:PUBLIC
DESCRIPTION:Festa de São Marcos em Mortazel
X-MICROSOFT-CDO-ALLDAYEVENT:TRUE
DTSTAMP:20260422T191730Z
END:VEVENT
END:VCALENDAR