BEGIN:VCALENDAR
VERSION:2.0
PRODID:Jantar das Janeiras em Vila Nova 
X-WR-CALNAME:Jantar das Janeiras em Vila Nova 
X-WR-TIMEZONE:Europe/Lisbon
X-PUBLISHED-TTL:P1W
BEGIN:VTIMEZONE
TZID:Europe/Lisbon
X-LIC-LOCATION:Europe/Lisbon
END:VTIMEZONE
BEGIN:VEVENT
UID:69e91d9e958fa
DTSTART;VALUE=DATE:20260222
SEQUENCE:0
TRANSP:OPAQUE
DTEND;VALUE=DATE:20260223
SUMMARY:Jantar das Janeiras em Vila Nova 
CLASS:PUBLIC
DESCRIPTION:Jantar das Janeiras em Vila Nova&nbsp\;
X-MICROSOFT-CDO-ALLDAYEVENT:TRUE
DTSTAMP:20260422T191230Z
END:VEVENT
END:VCALENDAR