BEGIN:VCALENDAR
VERSION:2.0
PRODID:Ramboia do Serrano no Chão Miúdo
X-WR-CALNAME:Ramboia do Serrano no Chão Miúdo
X-WR-TIMEZONE:Europe/Lisbon
X-PUBLISHED-TTL:P1W
BEGIN:VTIMEZONE
TZID:Europe/Lisbon
X-LIC-LOCATION:Europe/Lisbon
END:VTIMEZONE
BEGIN:VEVENT
UID:69e91e8d08d06
DTSTART;VALUE=DATE:20260321
SEQUENCE:0
TRANSP:OPAQUE
DTEND;VALUE=DATE:20260322
SUMMARY:Ramboia do Serrano no Chão Miúdo
CLASS:PUBLIC
DESCRIPTION:Ramboia do Serrano no Chão Miúdo
X-MICROSOFT-CDO-ALLDAYEVENT:TRUE
DTSTAMP:20260422T191629Z
END:VEVENT
END:VCALENDAR