BEGIN:VCALENDAR
VERSION:2.0
PRODID:Arraial de Carnaval  na Associação de Vila Gosendo 
X-WR-CALNAME:Arraial de Carnaval  na Associação de Vila Gosendo 
X-WR-TIMEZONE:Europe/Lisbon
X-PUBLISHED-TTL:P1W
BEGIN:VTIMEZONE
TZID:Europe/Lisbon
X-LIC-LOCATION:Europe/Lisbon
END:VTIMEZONE
BEGIN:VEVENT
UID:69e91e4ca5c87
DTSTART;VALUE=DATE:20260221
SEQUENCE:0
TRANSP:OPAQUE
DTEND;VALUE=DATE:20260222
SUMMARY:Arraial de Carnaval  na Associação de Vila Gosendo 
CLASS:PUBLIC
DESCRIPTION:Arraial de Carnaval&nbsp\; na Associação de Vila Gosendo&nbsp
 \;
X-MICROSOFT-CDO-ALLDAYEVENT:TRUE
DTSTAMP:20260422T191524Z
END:VEVENT
END:VCALENDAR