BEGIN:VCALENDAR
VERSION:2.0
PRODID:Animóvel - Itinerários com vida em Rio Milheiro
X-WR-CALNAME:Animóvel - Itinerários com vida em Rio Milheiro
X-WR-TIMEZONE:Europe/Lisbon
X-PUBLISHED-TTL:P1W
BEGIN:VTIMEZONE
TZID:Europe/Lisbon
X-LIC-LOCATION:Europe/Lisbon
END:VTIMEZONE
BEGIN:VEVENT
UID:69e91e5bc396e
DTSTART;VALUE=DATE:20260121
SEQUENCE:0
TRANSP:OPAQUE
DTEND;VALUE=DATE:20260122
SUMMARY:Animóvel - Itinerários com vida em Rio Milheiro
CLASS:PUBLIC
DESCRIPTION:Animóvel - Itinerários com vida em Rio Milheiro
X-MICROSOFT-CDO-ALLDAYEVENT:TRUE
DTSTAMP:20260422T191539Z
END:VEVENT
END:VCALENDAR