BEGIN:VCALENDAR
VERSION:2.0
PRODID:Itinerários com vida na Felgueira
X-WR-CALNAME:Itinerários com vida na Felgueira
X-WR-TIMEZONE:Europe/Lisbon
X-PUBLISHED-TTL:P1W
BEGIN:VTIMEZONE
TZID:Europe/Lisbon
X-LIC-LOCATION:Europe/Lisbon
END:VTIMEZONE
BEGIN:VEVENT
UID:69e91ecc40023
DTSTART;VALUE=DATE:20260318
SEQUENCE:0
TRANSP:OPAQUE
DTEND;VALUE=DATE:20260319
SUMMARY:Itinerários com vida na Felgueira
CLASS:PUBLIC
DESCRIPTION:Itinerários com vida na Felgueira
X-MICROSOFT-CDO-ALLDAYEVENT:TRUE
DTSTAMP:20260422T191732Z
END:VEVENT
END:VCALENDAR