BEGIN:VCALENDAR
VERSION:2.0
PRODID:Janeiras em Chão Miúdo
X-WR-CALNAME:Janeiras em Chão Miúdo
X-WR-TIMEZONE:Europe/Lisbon
X-PUBLISHED-TTL:P1W
BEGIN:VTIMEZONE
TZID:Europe/Lisbon
X-LIC-LOCATION:Europe/Lisbon
END:VTIMEZONE
BEGIN:VEVENT
UID:69e91e4ea3c61
DTSTART;VALUE=DATE:20260118
SEQUENCE:0
TRANSP:OPAQUE
DTEND;VALUE=DATE:20260119
SUMMARY:Janeiras em Chão Miúdo
CLASS:PUBLIC
DESCRIPTION:Janeiras em Chão Miúdo
X-MICROSOFT-CDO-ALLDAYEVENT:TRUE
DTSTAMP:20260422T191526Z
END:VEVENT
END:VCALENDAR