BEGIN:VCALENDAR
VERSION:2.0
PRODID:atendimento itinerante na Associação do Chão Miúdo
X-WR-CALNAME:atendimento itinerante na Associação do Chão Miúdo
X-WR-TIMEZONE:Europe/Lisbon
X-PUBLISHED-TTL:P1W
BEGIN:VTIMEZONE
TZID:Europe/Lisbon
X-LIC-LOCATION:Europe/Lisbon
END:VTIMEZONE
BEGIN:VEVENT
UID:69e91eb666fcf
DTSTART;VALUE=DATE:20260417
SEQUENCE:0
TRANSP:OPAQUE
DTEND;VALUE=DATE:20260418
SUMMARY:atendimento itinerante na Associação do Chão Miúdo
CLASS:PUBLIC
DESCRIPTION:atendimento itinerante na Associação do Chão Miúdo
X-MICROSOFT-CDO-ALLDAYEVENT:TRUE
DTSTAMP:20260422T191710Z
END:VEVENT
END:VCALENDAR