BEGIN:VCALENDAR
VERSION:2.0
PRODID:Jantar das Janeiras em Vila Moinhos
X-WR-CALNAME:Jantar das Janeiras em Vila Moinhos
X-WR-TIMEZONE:Europe/Lisbon
X-PUBLISHED-TTL:P1W
BEGIN:VTIMEZONE
TZID:Europe/Lisbon
X-LIC-LOCATION:Europe/Lisbon
END:VTIMEZONE
BEGIN:VEVENT
UID:69e91e4d72336
DTSTART;VALUE=DATE:20260117
SEQUENCE:0
TRANSP:OPAQUE
DTEND;VALUE=DATE:20260118
SUMMARY:Jantar das Janeiras em Vila Moinhos
CLASS:PUBLIC
DESCRIPTION:Jantar das Janeiras em Vila Moinhos
X-MICROSOFT-CDO-ALLDAYEVENT:TRUE
DTSTAMP:20260422T191525Z
END:VEVENT
END:VCALENDAR