BEGIN:VCALENDAR
VERSION:2.0
PRODID:Torneio da Malha Misto em Vila Moinhos 
X-WR-CALNAME:Torneio da Malha Misto em Vila Moinhos 
X-WR-TIMEZONE:Europe/Lisbon
X-PUBLISHED-TTL:P1W
BEGIN:VTIMEZONE
TZID:Europe/Lisbon
X-LIC-LOCATION:Europe/Lisbon
END:VTIMEZONE
BEGIN:VEVENT
UID:69e91e1e08894
DTSTART;VALUE=DATE:20260315
SEQUENCE:0
TRANSP:OPAQUE
DTEND;VALUE=DATE:20260316
SUMMARY:Torneio da Malha Misto em Vila Moinhos 
CLASS:PUBLIC
DESCRIPTION:Torneio da Malha Misto em Vila Moinhos&nbsp\;
X-MICROSOFT-CDO-ALLDAYEVENT:TRUE
DTSTAMP:20260422T191438Z
END:VEVENT
END:VCALENDAR