BEGIN:VCALENDAR
VERSION:2.0
PRODID:Rastreio dirigidos à população em geral 
X-WR-CALNAME:Rastreio dirigidos à população em geral 
X-WR-TIMEZONE:Europe/Lisbon
X-PUBLISHED-TTL:P1W
BEGIN:VTIMEZONE
TZID:Europe/Lisbon
X-LIC-LOCATION:Europe/Lisbon
END:VTIMEZONE
BEGIN:VEVENT
UID:69e91ee450a1f
DTSTART;VALUE=DATE:20260314
SEQUENCE:0
TRANSP:OPAQUE
DTEND;VALUE=DATE:20260315
SUMMARY:Rastreio dirigidos à população em geral 
CLASS:PUBLIC
DESCRIPTION:Rastreio dirigidos à população em geral&nbsp\;
X-MICROSOFT-CDO-ALLDAYEVENT:TRUE
DTSTAMP:20260422T191756Z
END:VEVENT
END:VCALENDAR