BEGIN:VCALENDAR
VERSION:2.0
PRODID:Atendimento Itinerante em Rio Milheiro
X-WR-CALNAME:Atendimento Itinerante em Rio Milheiro
X-WR-TIMEZONE:Europe/Lisbon
X-PUBLISHED-TTL:P1W
BEGIN:VTIMEZONE
TZID:Europe/Lisbon
X-LIC-LOCATION:Europe/Lisbon
END:VTIMEZONE
BEGIN:VEVENT
UID:69e91ecb35412
DTSTART;VALUE=DATE:20260313
SEQUENCE:0
TRANSP:OPAQUE
DTEND;VALUE=DATE:20260314
SUMMARY:Atendimento Itinerante em Rio Milheiro
CLASS:PUBLIC
DESCRIPTION:Atendimento Itinerante em Rio Milheiro
X-MICROSOFT-CDO-ALLDAYEVENT:TRUE
DTSTAMP:20260422T191731Z
END:VEVENT
END:VCALENDAR