BEGIN:VCALENDAR
VERSION:2.0
PRODID:Itinerários com vida em Pego Longo
X-WR-CALNAME:Itinerários com vida em Pego Longo
X-WR-TIMEZONE:Europe/Lisbon
X-PUBLISHED-TTL:P1W
BEGIN:VTIMEZONE
TZID:Europe/Lisbon
X-LIC-LOCATION:Europe/Lisbon
END:VTIMEZONE
BEGIN:VEVENT
UID:69e91e8c01189
DTSTART;VALUE=DATE:20260313
SEQUENCE:0
TRANSP:OPAQUE
DTEND;VALUE=DATE:20260314
SUMMARY:Itinerários com vida em Pego Longo
CLASS:PUBLIC
DESCRIPTION:Itinerários com vida em Pego Longo
X-MICROSOFT-CDO-ALLDAYEVENT:TRUE
DTSTAMP:20260422T191628Z
END:VEVENT
END:VCALENDAR