BEGIN:VCALENDAR
VERSION:2.0
PRODID:A liberdade morava ali 
X-WR-CALNAME:A liberdade morava ali 
X-WR-TIMEZONE:Europe/Lisbon
X-PUBLISHED-TTL:P1W
BEGIN:VTIMEZONE
TZID:Europe/Lisbon
X-LIC-LOCATION:Europe/Lisbon
END:VTIMEZONE
BEGIN:VEVENT
UID:69e91eb5df13b
DTSTART;VALUE=DATE:20260411
SEQUENCE:0
TRANSP:OPAQUE
DTEND;VALUE=DATE:20260412
SUMMARY:A liberdade morava ali 
CLASS:PUBLIC
DESCRIPTION:A liberdade morava ali\, no Centro de Animação Cultural de Mo
 rtágua&nbsp\;
X-MICROSOFT-CDO-ALLDAYEVENT:TRUE
DTSTAMP:20260422T191709Z
END:VEVENT
END:VCALENDAR