BEGIN:VCALENDAR
VERSION:2.0
PRODID:Em Abril  Cervejas Mil em Vila Gosendo
X-WR-CALNAME:Em Abril  Cervejas Mil em Vila Gosendo
X-WR-TIMEZONE:Europe/Lisbon
X-PUBLISHED-TTL:P1W
BEGIN:VTIMEZONE
TZID:Europe/Lisbon
X-LIC-LOCATION:Europe/Lisbon
END:VTIMEZONE
BEGIN:VEVENT
UID:69e91e8d814d8
DTSTART;VALUE=DATE:20260411
SEQUENCE:0
TRANSP:OPAQUE
DTEND;VALUE=DATE:20260412
SUMMARY:Em Abril  Cervejas Mil em Vila Gosendo
CLASS:PUBLIC
DESCRIPTION:Em Abril&nbsp\; Cervejas Mil em Vila Gosendo
X-MICROSOFT-CDO-ALLDAYEVENT:TRUE
DTSTAMP:20260422T191629Z
END:VEVENT
END:VCALENDAR