BEGIN:VCALENDAR
VERSION:2.0
PRODID:Caminhada dos Reis - Agrupamento de Escolas de Mortágua 
X-WR-CALNAME:Caminhada dos Reis - Agrupamento de Escolas de Mortágua 
X-WR-TIMEZONE:Europe/Lisbon
X-PUBLISHED-TTL:P1W
BEGIN:VTIMEZONE
TZID:Europe/Lisbon
X-LIC-LOCATION:Europe/Lisbon
END:VTIMEZONE
BEGIN:VEVENT
UID:69e91e4cbd287
DTSTART;VALUE=DATE:20260111
SEQUENCE:0
TRANSP:OPAQUE
DTEND;VALUE=DATE:20260112
SUMMARY:Caminhada dos Reis - Agrupamento de Escolas de Mortágua 
CLASS:PUBLIC
DESCRIPTION:Caminhada dos Reis - Agrupamento de Escolas de Mortágua&nbsp\;
X-MICROSOFT-CDO-ALLDAYEVENT:TRUE
DTSTAMP:20260422T191524Z
END:VEVENT
END:VCALENDAR