BEGIN:VCALENDAR
VERSION:2.0
PRODID:Jantar dos Reis em Vila Gosendo
X-WR-CALNAME:Jantar dos Reis em Vila Gosendo
X-WR-TIMEZONE:Europe/Lisbon
X-PUBLISHED-TTL:P1W
BEGIN:VTIMEZONE
TZID:Europe/Lisbon
X-LIC-LOCATION:Europe/Lisbon
END:VTIMEZONE
BEGIN:VEVENT
UID:69e91e468f195
DTSTART;VALUE=DATE:20260110
SEQUENCE:0
TRANSP:OPAQUE
DTEND;VALUE=DATE:20260111
SUMMARY:Jantar dos Reis em Vila Gosendo
CLASS:PUBLIC
DESCRIPTION:Jantar dos Reis em Vila Gosendo
X-MICROSOFT-CDO-ALLDAYEVENT:TRUE
DTSTAMP:20260422T191518Z
END:VEVENT
END:VCALENDAR