BEGIN:VCALENDAR
VERSION:2.0
PRODID:Eleição do Presidente da República 
X-WR-CALNAME:Eleição do Presidente da República 
X-WR-TIMEZONE:Europe/Lisbon
X-PUBLISHED-TTL:P1W
BEGIN:VTIMEZONE
TZID:Europe/Lisbon
X-LIC-LOCATION:Europe/Lisbon
END:VTIMEZONE
BEGIN:VEVENT
UID:69e91e1f44159
DTSTART;VALUE=DATE:20260208
SEQUENCE:0
TRANSP:OPAQUE
DTEND;VALUE=DATE:20260209
SUMMARY:Eleição do Presidente da República 
CLASS:PUBLIC
DESCRIPTION:Eleição do Presidente da República&nbsp\;
X-MICROSOFT-CDO-ALLDAYEVENT:TRUE
DTSTAMP:20260422T191439Z
END:VEVENT
END:VCALENDAR