BEGIN:VCALENDAR
VERSION:2.0
PRODID:Itinerários com Vida na Tojeira 
X-WR-CALNAME:Itinerários com Vida na Tojeira 
X-WR-TIMEZONE:Europe/Lisbon
X-PUBLISHED-TTL:P1W
BEGIN:VTIMEZONE
TZID:Europe/Lisbon
X-LIC-LOCATION:Europe/Lisbon
END:VTIMEZONE
BEGIN:VEVENT
UID:69e91e482b5d6
DTSTART;VALUE=DATE:20260206
SEQUENCE:0
TRANSP:OPAQUE
DTEND;VALUE=DATE:20260207
SUMMARY:Itinerários com Vida na Tojeira 
CLASS:PUBLIC
DESCRIPTION:Itinerários com Vida na Tojeira&nbsp\;
X-MICROSOFT-CDO-ALLDAYEVENT:TRUE
DTSTAMP:20260422T191520Z
END:VEVENT
END:VCALENDAR