BEGIN:VCALENDAR
VERSION:2.0
PRODID:Cantar as janeiras em Vila gosendo 
X-WR-CALNAME:Cantar as janeiras em Vila gosendo 
X-WR-TIMEZONE:Europe/Lisbon
X-PUBLISHED-TTL:P1W
BEGIN:VTIMEZONE
TZID:Europe/Lisbon
X-LIC-LOCATION:Europe/Lisbon
END:VTIMEZONE
BEGIN:VEVENT
UID:69e91e1cd81a4
DTSTART;VALUE=DATE:20260104
SEQUENCE:0
TRANSP:OPAQUE
DTEND;VALUE=DATE:20260105
SUMMARY:Cantar as janeiras em Vila gosendo 
CLASS:PUBLIC
DESCRIPTION:Cantar as janeiras em Vila gosendo&nbsp\;
X-MICROSOFT-CDO-ALLDAYEVENT:TRUE
DTSTAMP:20260422T191436Z
END:VEVENT
END:VCALENDAR