BEGIN:VCALENDAR
VERSION:2.0
PRODID:XXXII cicloturismo em Vila Moinhos 
X-WR-CALNAME:XXXII cicloturismo em Vila Moinhos 
X-WR-TIMEZONE:Europe/Lisbon
X-PUBLISHED-TTL:P1W
BEGIN:VTIMEZONE
TZID:Europe/Lisbon
X-LIC-LOCATION:Europe/Lisbon
END:VTIMEZONE
BEGIN:VEVENT
UID:69e91e4e03da9
DTSTART;VALUE=DATE:20260503
SEQUENCE:0
TRANSP:OPAQUE
DTEND;VALUE=DATE:20260504
SUMMARY:XXXII cicloturismo em Vila Moinhos 
CLASS:PUBLIC
DESCRIPTION:XXXII cicloturismo em Vila Moinhos&nbsp\;
X-MICROSOFT-CDO-ALLDAYEVENT:TRUE
DTSTAMP:20260422T191526Z
END:VEVENT
END:VCALENDAR